BEGIN:VCALENDAR
VERSION:2.0
PRODID:-//Open Source Security Foundation - ECPv6.15.20//NONSGML v1.0//EN
CALSCALE:GREGORIAN
METHOD:PUBLISH
X-ORIGINAL-URL:https://openssf.org
X-WR-CALDESC:Events for Open Source Security Foundation
REFRESH-INTERVAL;VALUE=DURATION:PT1H
X-Robots-Tag:noindex
X-PUBLISHED-TTL:PT1H
BEGIN:VTIMEZONE
TZID:UTC
BEGIN:STANDARD
TZOFFSETFROM:+0000
TZOFFSETTO:+0000
TZNAME:UTC
DTSTART:20240101T000000
END:STANDARD
END:VTIMEZONE
BEGIN:VTIMEZONE
TZID:Asia/Kolkata
BEGIN:STANDARD
TZOFFSETFROM:+0530
TZOFFSETTO:+0530
TZNAME:IST
DTSTART:20240101T000000
END:STANDARD
END:VTIMEZONE
BEGIN:VEVENT
DTSTART;VALUE=DATE:20250202
DTEND;VALUE=DATE:20250203
DTSTAMP:20260420T224733
CREATED:20250129T192151Z
LAST-MODIFIED:20250129T192425Z
UID:10000052-1738454400-1738540799@openssf.org
SUMMARY:Meetup: Global Cyber Policy WG at FOSDEM 2025
DESCRIPTION:Join the OpenSSF community at FOSDEM in Belgium\, Brussels on Sunday\, 2 February for a Global Cyber Policy WG Meetup!\nIt’s an informal gathering where you can meet some of your fellow security contributors working on CRA collaboration efforts. \nLocation: We will gather at the CNCF / LF Europe stand (K2-A-16 – Building K\, Level 2\, #16) and then find an open table to meet. \nImportant Note: There are two meeting times to accommodate schedule conflicts with DevRooms\, etc. 14:00 and 17:00. \nAdd February 2 – 14:00 to Your Calendar\nAdd February 2 – 17:00 to Your Calendar
URL:https://openssf.org/event/meetup-global-cyber-policy-wg/
CATEGORIES:OpenSSF Events
END:VEVENT
BEGIN:VEVENT
DTSTART;TZID=Asia/Kolkata:20250206T140000
DTEND;TZID=Asia/Kolkata:20250206T150000
DTSTAMP:20260420T224733
CREATED:20250108T093955Z
LAST-MODIFIED:20250108T093955Z
UID:10000050-1738850400-1738854000@openssf.org
SUMMARY:Livestream: All About SaaS Security
DESCRIPTION:Join us for a live stream with Aparna Hinge\, Principal Product Manager at CheckRed\, as she shares her extensive experience in securing SaaS applications. With over 15 years in building secure software\, including 10 years in groundbreaking security research and product design\, Aparna brings a wealth of knowledge to the table. As a Certified Information Systems Auditor (CISA)\, she possesses deep expertise in technical areas coupled with governance and policy requirements. This allows her to navigate the complexities of SaaS security with aplomb! \nIn this captivating session\, Aparna will pull back the curtain on the often-hidden world of SaaS security\, sharing firsthand accounts of the challenges she’s conquered and the intricate technical puzzles she’s solved while architecting robust security for the applications we rely on every day. Discover the nuances of safeguarding SaaS environments and glean invaluable wisdom from a true industry veteran. \nCheckRed’s comprehensive security posture management (SSPM + CSPM) approach delivers a streamlined\, centralized cloud security solution\, providing comprehensive coverage across major cloud providers like AWS\, Azure\, GCP\, and Linode\, as well as over 50 widely used SaaS applications\, including Salesforce\, Microsoft 365\, ServiceNow\, and Okta. \nRemember to join us live on Thu\, Feb 6th\, 2025!
URL:https://openssf.org/event/livestream-all-about-saas-security/
CATEGORIES:India Initiative
END:VEVENT
BEGIN:VEVENT
DTSTART;TZID=Asia/Kolkata:20250213T140000
DTEND;TZID=Asia/Kolkata:20250213T150000
DTSTAMP:20260420T224733
CREATED:20250120T150013Z
LAST-MODIFIED:20250120T154650Z
UID:10000051-1739455200-1739458800@openssf.org
SUMMARY:Live stream: Sparks Fly\, When Security Meets AI
DESCRIPTION:AI is now everywhere! But how prepared are we to protect our data\, models\, and defend other assets? \nJoin us for a special episode of our live streams where we explore the critical intersection of open source security and artificial intelligence. We’ll delve into the lack of security measures protecting AI systems and the urgent need to address the growing needs. This stream will help you gain an understanding of the vast attack surface in AI\, from data poisoning and model theft to adversarial attacks and malicious code injection. It will also educate you about the potential risks of running untrusted AI/ML models\, which would lead to attacks including cryptojacking\, remote code execution\, and data breaches. \nThis live stream features special guest Keerthana Rampa\, who is an Associate Project Manager at AccuKnox. She is a leading expert in AI security and will share her deep knowledge and insights on the challenges and solutions in this rapidly evolving field.
URL:https://openssf.org/event/security-meets-ai-sparks-fly/
CATEGORIES:India Initiative
END:VEVENT
END:VCALENDAR