BEGIN:VCALENDAR
VERSION:2.0
PRODID:-//Open Source Security Foundation - ECPv6.15.20//NONSGML v1.0//EN
CALSCALE:GREGORIAN
METHOD:PUBLISH
X-WR-CALNAME:Open Source Security Foundation
X-ORIGINAL-URL:https://openssf.org
X-WR-CALDESC:Events for Open Source Security Foundation
REFRESH-INTERVAL;VALUE=DURATION:PT1H
X-Robots-Tag:noindex
X-PUBLISHED-TTL:PT1H
BEGIN:VTIMEZONE
TZID:UTC
BEGIN:STANDARD
TZOFFSETFROM:+0000
TZOFFSETTO:+0000
TZNAME:UTC
DTSTART:20230101T000000
END:STANDARD
END:VTIMEZONE
BEGIN:VTIMEZONE
TZID:America/Los_Angeles
BEGIN:DAYLIGHT
TZOFFSETFROM:-0800
TZOFFSETTO:-0700
TZNAME:PDT
DTSTART:20230312T100000
END:DAYLIGHT
BEGIN:STANDARD
TZOFFSETFROM:-0700
TZOFFSETTO:-0800
TZNAME:PST
DTSTART:20231105T090000
END:STANDARD
BEGIN:DAYLIGHT
TZOFFSETFROM:-0800
TZOFFSETTO:-0700
TZNAME:PDT
DTSTART:20240310T100000
END:DAYLIGHT
BEGIN:STANDARD
TZOFFSETFROM:-0700
TZOFFSETTO:-0800
TZNAME:PST
DTSTART:20241103T090000
END:STANDARD
BEGIN:DAYLIGHT
TZOFFSETFROM:-0800
TZOFFSETTO:-0700
TZNAME:PDT
DTSTART:20250309T100000
END:DAYLIGHT
BEGIN:STANDARD
TZOFFSETFROM:-0700
TZOFFSETTO:-0800
TZNAME:PST
DTSTART:20251102T090000
END:STANDARD
END:VTIMEZONE
BEGIN:VTIMEZONE
TZID:Asia/Kolkata
BEGIN:STANDARD
TZOFFSETFROM:+0530
TZOFFSETTO:+0530
TZNAME:IST
DTSTART:20230101T000000
END:STANDARD
END:VTIMEZONE
BEGIN:VEVENT
DTSTART;VALUE=DATE:20241112
DTEND;VALUE=DATE:20241113
DTSTAMP:20260420T164841
CREATED:20240822T215454Z
LAST-MODIFIED:20240909T153034Z
UID:10000043-1731369600-1731455999@openssf.org
SUMMARY:SigstoreCon North America
DESCRIPTION:Attending: OpenSSF is attending the 2024 SigstoreCon North America on November 12! Sigstore is a new standard for signing\, verifying\, and protecting software. Sigstore ensures that your software is all that it claims to be for developers and end users. SigstoreCon is a one-day vendor neutral conference organized by the Sigstore community and focused on all things Sigstore. Join us in Detroit and accelerate how you secure your software supply chain.
URL:https://openssf.org/event/sigstorecon-north-america/
END:VEVENT
BEGIN:VEVENT
DTSTART;VALUE=DATE:20241119
DTEND;VALUE=DATE:20241122
DTSTAMP:20260420T164841
CREATED:20240208T131127Z
LAST-MODIFIED:20240208T131127Z
UID:10000019-1731974400-1732233599@openssf.org
SUMMARY:Linux Foundation Member Summit
DESCRIPTION:Attending: The OpenSSF will be at the Linux Foundation Member Summit (LFMS) this year! The LFMS is the annual gathering for Linux Foundation member organizations that fosters collaboration\, innovation\, and partnerships among the leading projects and organizations working to drive digital transformation with open source technologies.
URL:https://openssf.org/event/linux-foundation-member-summit/
END:VEVENT
BEGIN:VEVENT
DTSTART;TZID=Asia/Kolkata:20241127T140000
DTEND;TZID=Asia/Kolkata:20241127T150000
DTSTAMP:20260420T164841
CREATED:20241104T083901Z
LAST-MODIFIED:20241104T102033Z
UID:10000045-1732716000-1732719600@openssf.org
SUMMARY:Policy\, Security\, and the Software Supply Chain
DESCRIPTION:﻿ \nJoin us for a live stream with security expert Abhisek Datta! Abhisek has over a decade of experience in platform & security engineering\, DevSecOps\, and building secure B2B SaaS platforms. \nIn this session\, Abhisek will discuss the critical intersection of policy\, security\, and the modern software supply chain. He’ll also demonstrate vet\, an open-source tool he co-developed to identify risks in open source dependencies\, helping engineering and security teams leverage DevSecOps and policy-as-code practices to build more secure software. \nDon’t miss this opportunity to learn: \n\nThe evolving landscape of software supply chain security.\nHow to identify and mitigate risks in open source dependencies.\nPractical strategies for integrating security into your DevSecOps workflow.\nA live demo of vet\, a new tool for securing software supply chains.\nThe impact of the work OpenSSF has been doing within the larger security community.\n\nMark your calendars and join the live stream! \nThis event is being hosted in the run up to SOSS Community Day\, India\, co-located with KubeCon + CloudNativeCon India 2024. Please remember to register for the event here.
URL:https://openssf.org/event/policy-security-software-supply-chain/
CATEGORIES:India Initiative
END:VEVENT
BEGIN:VEVENT
DTSTART;TZID=UTC:20241128T140000
DTEND;TZID=UTC:20241128T150000
DTSTAMP:20260420T164841
CREATED:20241125T043752Z
LAST-MODIFIED:20241125T043752Z
UID:10000047-1732802400-1732806000@openssf.org
SUMMARY:Building Security Tooling: Trials and Triumphs
DESCRIPTION:Join Barun Acharya\, who is many things ― a CNCF Ambassador\,  maintainer for KubeArmor\, and works as a Software Engineer at Accuknox\, as he gives us the inside story of what it is like to build and maintain security tooling. In his conversation\, he will be explaining the common pitfalls one can expect when designing security tooling and the difficult decisions developer habits put them in. \nIf you’ve wondered how to strike a balance between building opinionated tooling that sets out to accomplish something versus being an open platform for developers\, this live stream is certain to spark your interest. Join us to learn more about security\, tooling\, and the challenges that surround security awareness.
URL:https://openssf.org/event/building-security-tooling/
CATEGORIES:India Initiative
END:VEVENT
END:VCALENDAR