BEGIN:VCALENDAR
VERSION:2.0
PRODID:-//Open Source Security Foundation - ECPv6.15.20//NONSGML v1.0//EN
CALSCALE:GREGORIAN
METHOD:PUBLISH
X-ORIGINAL-URL:https://openssf.org
X-WR-CALDESC:Events for Open Source Security Foundation
REFRESH-INTERVAL;VALUE=DURATION:PT1H
X-Robots-Tag:noindex
X-PUBLISHED-TTL:PT1H
BEGIN:VTIMEZONE
TZID:UTC
BEGIN:STANDARD
TZOFFSETFROM:+0000
TZOFFSETTO:+0000
TZNAME:UTC
DTSTART:20230101T000000
END:STANDARD
END:VTIMEZONE
BEGIN:VTIMEZONE
TZID:America/Los_Angeles
BEGIN:DAYLIGHT
TZOFFSETFROM:-0800
TZOFFSETTO:-0700
TZNAME:PDT
DTSTART:20230312T100000
END:DAYLIGHT
BEGIN:STANDARD
TZOFFSETFROM:-0700
TZOFFSETTO:-0800
TZNAME:PST
DTSTART:20231105T090000
END:STANDARD
BEGIN:DAYLIGHT
TZOFFSETFROM:-0800
TZOFFSETTO:-0700
TZNAME:PDT
DTSTART:20240310T100000
END:DAYLIGHT
BEGIN:STANDARD
TZOFFSETFROM:-0700
TZOFFSETTO:-0800
TZNAME:PST
DTSTART:20241103T090000
END:STANDARD
BEGIN:DAYLIGHT
TZOFFSETFROM:-0800
TZOFFSETTO:-0700
TZNAME:PDT
DTSTART:20250309T100000
END:DAYLIGHT
BEGIN:STANDARD
TZOFFSETFROM:-0700
TZOFFSETTO:-0800
TZNAME:PST
DTSTART:20251102T090000
END:STANDARD
END:VTIMEZONE
BEGIN:VEVENT
DTSTART;VALUE=DATE:20241008
DTEND;VALUE=DATE:20241012
DTSTAMP:20260420T145738
CREATED:20240724T190535Z
LAST-MODIFIED:20240724T190535Z
UID:10000040-1728345600-1728691199@openssf.org
SUMMARY:Grace Hopper
DESCRIPTION:Attending: Join OpenSSF and our community at the Grace Hopper Celebration this October. Come to this event and feel empowered\, encouraged and inspired. You will be hearing from experts talking about their career growth\, technical upskilling\, leadership\, DEI\, and more.
URL:https://openssf.org/event/grace-hopper/
END:VEVENT
BEGIN:VEVENT
DTSTART;VALUE=DATE:20241022
DTEND;VALUE=DATE:20241024
DTSTAMP:20260420T145738
CREATED:20240208T131040Z
LAST-MODIFIED:20240208T131040Z
UID:10000018-1729555200-1729727999@openssf.org
SUMMARY:SOSS Fusion Conference
DESCRIPTION:Hosting: The OpenSSF is hosting the SOSS Fusion Conference this year. The Secure Open Source Software (SOSS) Fusion Conference is a premier event\, from OpenSSF\, where the brightest minds in software development and cybersecurity converge as one community committed to securing the open source software that we all depend on. SOSS Fusion will host in-depth technical conversations on innovative and industry leading ways to secure open source software\, fostering a collaborative platform for cutting-edge solutions and security insights.
URL:https://openssf.org/event/soss-fusion-conference/
END:VEVENT
BEGIN:VEVENT
DTSTART;VALUE=DATE:20241028
DTEND;VALUE=DATE:20241030
DTSTAMP:20260420T145738
CREATED:20240724T220920Z
LAST-MODIFIED:20240724T220920Z
UID:10000041-1730073600-1730246399@openssf.org
SUMMARY:Open Source Summit Japan
DESCRIPTION:Attending: Catch us in Japan at the OSS Japan! Open Source Summit Japan is the leading conference in Japan connecting the open source ecosystem under one roof\, providing a forum for technologists and open source industry leaders to collaborate and share information\, learn about the latest in open source technologies and find out how to gain a competitive advantage by using innovative open solutions.
URL:https://openssf.org/event/open-source-summit-japan/
END:VEVENT
BEGIN:VEVENT
DTSTART;VALUE=DATE:20241030
DTEND;VALUE=DATE:20241031
DTSTAMP:20260420T145738
CREATED:20240724T221039Z
LAST-MODIFIED:20240724T221045Z
UID:10000042-1730246400-1730332799@openssf.org
SUMMARY:SOSS Community Day Japan
DESCRIPTION:Hosting: Co-located with OSS Japan\, OpenSSF is hosting another SOSS Community Day in Japan. Stay tuned for more details.
URL:https://openssf.org/event/soss-community-day-japan/
CATEGORIES:OpenSSF Events
END:VEVENT
END:VCALENDAR