BEGIN:VCALENDAR
VERSION:2.0
PRODID:-//Open Source Security Foundation - ECPv6.15.20//NONSGML v1.0//EN
CALSCALE:GREGORIAN
METHOD:PUBLISH
X-WR-CALNAME:Open Source Security Foundation
X-ORIGINAL-URL:https://openssf.org
X-WR-CALDESC:Events for Open Source Security Foundation
REFRESH-INTERVAL;VALUE=DURATION:PT1H
X-Robots-Tag:noindex
X-PUBLISHED-TTL:PT1H
BEGIN:VTIMEZONE
TZID:UTC
BEGIN:STANDARD
TZOFFSETFROM:+0000
TZOFFSETTO:+0000
TZNAME:UTC
DTSTART:20230101T000000
END:STANDARD
END:VTIMEZONE
BEGIN:VTIMEZONE
TZID:America/Los_Angeles
BEGIN:DAYLIGHT
TZOFFSETFROM:-0800
TZOFFSETTO:-0700
TZNAME:PDT
DTSTART:20230312T100000
END:DAYLIGHT
BEGIN:STANDARD
TZOFFSETFROM:-0700
TZOFFSETTO:-0800
TZNAME:PST
DTSTART:20231105T090000
END:STANDARD
BEGIN:DAYLIGHT
TZOFFSETFROM:-0800
TZOFFSETTO:-0700
TZNAME:PDT
DTSTART:20240310T100000
END:DAYLIGHT
BEGIN:STANDARD
TZOFFSETFROM:-0700
TZOFFSETTO:-0800
TZNAME:PST
DTSTART:20241103T090000
END:STANDARD
BEGIN:DAYLIGHT
TZOFFSETFROM:-0800
TZOFFSETTO:-0700
TZNAME:PDT
DTSTART:20250309T100000
END:DAYLIGHT
BEGIN:STANDARD
TZOFFSETFROM:-0700
TZOFFSETTO:-0800
TZNAME:PST
DTSTART:20251102T090000
END:STANDARD
END:VTIMEZONE
BEGIN:VEVENT
DTSTART;VALUE=DATE:20240911
DTEND;VALUE=DATE:20240913
DTSTAMP:20260421T114534
CREATED:20240905T164222Z
LAST-MODIFIED:20240905T164251Z
UID:10000044-1726012800-1726185599@openssf.org
SUMMARY:SBOM-a-Rama Fall 2024
DESCRIPTION:Attending: OpenSSF is attending SBOM-a-Rama! We are excited for you to join us September 11-12\, 2024\, at the Denver Athletic Club in Denver\, CO. Day 1 is the SBOM-a-Rama as you know it\, a day of presentations from across the global software community on SBOM-related topics and a chance to discuss important opportunities and issues. Day 2 features our first SBOM-Solutions Showcase\, where suppliers of commercial and open-source SBOM solutions will have a chance to share how they are helping meet the needs of community.
URL:https://openssf.org/event/sbom-a-rama-fall-2024/
END:VEVENT
BEGIN:VEVENT
DTSTART;VALUE=DATE:20240916
DTEND;VALUE=DATE:20240919
DTSTAMP:20260421T114534
CREATED:20240208T130457Z
LAST-MODIFIED:20240208T130457Z
UID:10000017-1726444800-1726703999@openssf.org
SUMMARY:Open Source Summit EU
DESCRIPTION:Attending: Open Source Summit is the premier event for open source developers\, technologists\, and community leaders to collaborate\, share information\, solve problems\, and gain knowledge\, furthering open source innovation and ensuring a sustainable open source ecosystem. It is the gathering place for open-source code and community contributors.
URL:https://openssf.org/event/open-source-summit-eu/
END:VEVENT
BEGIN:VEVENT
DTSTART;TZID=UTC:20240919T080000
DTEND;TZID=UTC:20240919T170000
DTSTAMP:20260421T114534
CREATED:20240430T031942Z
LAST-MODIFIED:20240430T142538Z
UID:10000031-1726732800-1726765200@openssf.org
SUMMARY:SOSS Community Day Europe
DESCRIPTION:Secure Open Source Software (SOSS) Community Days are an opportunity for Community Members from across the Security and Open Source ecosystem to get together and share ideas and progress on capabilities that make it easier to sustainably secure the development\, maintenance\, and consumption of the open source software (OSS) we all depend on. SOSS Community Days are held regionally\, alongside the Open Source Summits and were formerly called OpenSSF Days. The change in name reflects the need to capture the broader interest in the security of open source software. What’s in the SOSS? Come to a Community Day to find out! Brought to you by OpenSSF.
URL:https://openssf.org/event/soss-community-day-europe/
LOCATION:Austria Center Vienna\, Bruno-Kreisky-Platz 1\, 1220 Wien\, Austria
CATEGORIES:OpenSSF Events
END:VEVENT
BEGIN:VEVENT
DTSTART;VALUE=DATE:20240923
DTEND;VALUE=DATE:20240925
DTSTAMP:20260421T114534
CREATED:20240724T185547Z
LAST-MODIFIED:20240724T185550Z
UID:10000038-1727049600-1727222399@openssf.org
SUMMARY:Nordic Software Security Summit
DESCRIPTION:Attending: OpenSSF is attending the Nordic Software Security Summit this fall! This is the new conference on application security\, focusing on the new EU legislation for software.
URL:https://openssf.org/event/nordic-software-security-summit/
CATEGORIES:OpenSSF Events
END:VEVENT
BEGIN:VEVENT
DTSTART;VALUE=DATE:20240926
DTEND;VALUE=DATE:20240927
DTSTAMP:20260421T114534
CREATED:20240724T190050Z
LAST-MODIFIED:20240724T190050Z
UID:10000039-1727308800-1727395199@openssf.org
SUMMARY:Keyfactor Meeting
DESCRIPTION:Attending: We’re attending the 2024 Keyfactor Community Tech Meetup in Stockholm this September.\nThis event is inviting engineers and security specialists from Stockholm\, the Nordics and around the world. Prepare yourself for an immersive experience filled with engaging presentations\, hands-on workshops\, and demos.
URL:https://openssf.org/event/keyfactor-meeting/
END:VEVENT
END:VCALENDAR