BEGIN:VCALENDAR
VERSION:2.0
PRODID:-//Open Source Security Foundation - ECPv6.15.20//NONSGML v1.0//EN
CALSCALE:GREGORIAN
METHOD:PUBLISH
X-WR-CALNAME:Open Source Security Foundation
X-ORIGINAL-URL:https://openssf.org
X-WR-CALDESC:Events for Open Source Security Foundation
REFRESH-INTERVAL;VALUE=DURATION:PT1H
X-Robots-Tag:noindex
X-PUBLISHED-TTL:PT1H
BEGIN:VTIMEZONE
TZID:UTC
BEGIN:STANDARD
TZOFFSETFROM:+0000
TZOFFSETTO:+0000
TZNAME:UTC
DTSTART:20240101T000000
END:STANDARD
END:VTIMEZONE
BEGIN:VEVENT
DTSTART;VALUE=DATE:20250202
DTEND;VALUE=DATE:20250203
DTSTAMP:20260420T224340
CREATED:20250129T192151Z
LAST-MODIFIED:20250129T192425Z
UID:10000052-1738454400-1738540799@openssf.org
SUMMARY:Meetup: Global Cyber Policy WG at FOSDEM 2025
DESCRIPTION:Join the OpenSSF community at FOSDEM in Belgium\, Brussels on Sunday\, 2 February for a Global Cyber Policy WG Meetup!\nIt’s an informal gathering where you can meet some of your fellow security contributors working on CRA collaboration efforts. \nLocation: We will gather at the CNCF / LF Europe stand (K2-A-16 – Building K\, Level 2\, #16) and then find an open table to meet. \nImportant Note: There are two meeting times to accommodate schedule conflicts with DevRooms\, etc. 14:00 and 17:00. \nAdd February 2 – 14:00 to Your Calendar\nAdd February 2 – 17:00 to Your Calendar
URL:https://openssf.org/event/meetup-global-cyber-policy-wg/
CATEGORIES:OpenSSF Events
END:VEVENT
END:VCALENDAR